BEGIN:VCALENDAR
VERSION:2.0
PRODID:-//Martin Glass Creations - ECPv6.15.20//NONSGML v1.0//EN
CALSCALE:GREGORIAN
METHOD:PUBLISH
X-WR-CALNAME:Martin Glass Creations
X-ORIGINAL-URL:https://martinglasscreations.com
X-WR-CALDESC:Events for Martin Glass Creations
REFRESH-INTERVAL;VALUE=DURATION:PT1H
X-Robots-Tag:noindex
X-PUBLISHED-TTL:PT1H
BEGIN:VTIMEZONE
TZID:America/New_York
BEGIN:DAYLIGHT
TZOFFSETFROM:-0500
TZOFFSETTO:-0400
TZNAME:EDT
DTSTART:20240310T070000
END:DAYLIGHT
BEGIN:STANDARD
TZOFFSETFROM:-0400
TZOFFSETTO:-0500
TZNAME:EST
DTSTART:20241103T060000
END:STANDARD
BEGIN:DAYLIGHT
TZOFFSETFROM:-0500
TZOFFSETTO:-0400
TZNAME:EDT
DTSTART:20250309T070000
END:DAYLIGHT
BEGIN:STANDARD
TZOFFSETFROM:-0400
TZOFFSETTO:-0500
TZNAME:EST
DTSTART:20251102T060000
END:STANDARD
BEGIN:DAYLIGHT
TZOFFSETFROM:-0500
TZOFFSETTO:-0400
TZNAME:EDT
DTSTART:20260308T070000
END:DAYLIGHT
BEGIN:STANDARD
TZOFFSETFROM:-0400
TZOFFSETTO:-0500
TZNAME:EST
DTSTART:20261101T060000
END:STANDARD
END:VTIMEZONE
BEGIN:VEVENT
DTSTART;VALUE=DATE:20251113
DTEND;VALUE=DATE:20251116
DTSTAMP:20260421T044152
CREATED:20241008T231248Z
LAST-MODIFIED:20251011T174259Z
UID:19774-1762992000-1763251199@martinglasscreations.com
SUMMARY:Museums & Makers Holiday Market
DESCRIPTION:This holiday season\, discover one-of-a-kind gifts that give back. Strathmore’s Museums & Makers Holiday Market brings together the area’s top museum shops and local artisans for three days of spirited shopping. Every purchase supports nonprofit museums and independent artists in our community\, so your gift goes even further. \nSuggested donation of $10 at the door. RSVP is requested\, but not required. RSVP allows us to notify you of event changes. \nThe hours are 10am – 6pm each day.  Easiest location for parking is at the Grosvenor-Strathmore metro station next door. \nNo strollers\, please. \n 
URL:https://martinglasscreations.com/event/35th-annual-museum-shop-holiday-market/
ATTACH;FMTTYPE=image/png:https://martinglasscreations.com/wp-content/uploads/2024/10/Page-1.png
END:VEVENT
END:VCALENDAR